BEGIN:VCALENDAR
VERSION:2.0
PRODID:-//eventon.com NONSGML v1.0//EN
BEGIN:VEVENT
UID:69e4f17db7cc1
DTSTAMP:20260419T171509
DTSTART:20201231
DTEND:20201231
TZID:UTC
LOCATION:
SUMMARY:Inps e ex Enpals - Uniemens individuale
DESCRIPTION: Soggetti obbligati: datori di lavoro che hanno alle proprie dipendenze lavoratori subordinati di qualsiasi categoria e qualifica iscritti alle gestioni previdenziali e assistenziali dell’Inps. Adempimento: presentazione dei flussi retributivi e contributivi individuali dei lavoratori\,  relativi al mese precedente in via telematica all’INPS.\nhttps://confartigianatobergamo.it/events/inps-e-ex-enpals-uniemens-individuale-12/var/ri-5.l-L1
URL:https://confartigianatobergamo.it/events/inps-e-ex-enpals-uniemens-individuale-12/var/ri-5.l-L1
END:VEVENT
END:VCALENDAR