BEGIN:VCALENDAR
VERSION:2.0
PRODID:-//eventon.com NONSGML v1.0//EN
BEGIN:VEVENT
UID:69e9ec88f0aa0
DTSTAMP:20260423T115520
DTSTART:20190926T163000Z
DTEND:20190926T180000Z
TZID:UTC
LOCATION:Confartigianato Imprese Bergamo Via Torretta\,  12 - Bergamo
SUMMARY:Seminario "Piano mirato 2019/2020 di prevenzione e tutela - Sicurezza e salute nel settore della metalmeccanica. ATS incontra le imprese della Provincia di Bergamo” <br>Giovedì 26 settembre ore 16.30
DESCRIPTION: &nbsp; PROGRAMMA Ore 16.15 &#8211; Registrazione partecipanti Ore 16.30 &#8211; Saluti e apertura lavori Giacinto Giambellini\,  Presidente Confartigianato Imprese Bergamo Ore 16.45 &#8211; Controlli e verifiche nelle imprese metalmeccaniche Giorgio Luzzana\,  Giuseppina Zottola\,  Sergio Bani\,  Antonella Regonesi Servizio Prevenzione e Protezione negli Ambienti di Lavoro ATS della Provincia di Bergamo[..]\nhttps://confartigianatobergamo.it/events/seminario-la-tutela-della-sicurezza-e-della-salute-nel-settore-della-metalmeccanica-piano-mirato-ats-di-prevenzione-nel-settore-metalmeccanico-20192021-giovedi-26-settembre-ore/
URL:https://confartigianatobergamo.it/events/seminario-la-tutela-della-sicurezza-e-della-salute-nel-settore-della-metalmeccanica-piano-mirato-ats-di-prevenzione-nel-settore-metalmeccanico-20192021-giovedi-26-settembre-ore/
END:VEVENT
END:VCALENDAR