BEGIN:VCALENDAR
VERSION:2.0
PRODID:-//eventon.com NONSGML v1.0//EN
BEGIN:VEVENT
UID:69ecf0880a289
DTSTAMP:20260425T184912
DTSTART:20210228
DTEND:20210228
TZID:UTC
LOCATION:
SUMMARY:Autoliquidazione INAIL
DESCRIPTION: Inail &#8211; Autoliquidazione. Soggetti obbligati: datori di lavoro che abbiano avuto dipendenti o collaboratori assicurati all&#8217;INAIL nell&#8217;anno 2020. Adempimento: denuncia all&#8217;Inail.\nhttps://confartigianatobergamo.it/events/autoliquidazione-inail-2021/
URL:https://confartigianatobergamo.it/events/autoliquidazione-inail-2021/
END:VEVENT
END:VCALENDAR