BEGIN:VCALENDAR
VERSION:2.0
PRODID:-//eventon.com NONSGML v1.0//EN
BEGIN:VEVENT
UID:69ecd68586da3
DTSTAMP:20260425T165813
DTSTART:20210228
DTEND:20210228
TZID:UTC
LOCATION:
SUMMARY:Datore di lavoro - Stampa Libro Unico
DESCRIPTION: Soggetti obbligati: tutti i datori di lavoro. Adempimento: stampa del Libro Unico del Lavoro relativamente ai dati retributivi del mese precedente.\nhttps://confartigianatobergamo.it/events/datore-di-lavoro-stampa-libro-unico2/
URL:https://confartigianatobergamo.it/events/datore-di-lavoro-stampa-libro-unico2/
END:VEVENT
END:VCALENDAR