BEGIN:VCALENDAR
VERSION:2.0
PRODID:-//eventon.com NONSGML v1.0//EN
BEGIN:VEVENT
UID:69e5e36438c52
DTSTAMP:20260420T102716
DTSTART:20210414
DTEND:20210414
TZID:UTC
LOCATION:Online Canale youtube Confartigianato Imprese Bergamo
SUMMARY:[S7] CORSO CONDUCENTE CARRELLI ELEVATORI - ON LINE - dal 14 aprile
DESCRIPTION: Sono aperte le iscrizioni al corso conducente carrelli elevatori. Come previsto dall&#8217;ACCORDO STATO REGIONI del 22/02/2012 in attuazione dell’art. 73\,  comma 5\,  del decreto legislativo 9 aprile 2008\,  n. 81 e successive modifiche e integrazioni\,  il corso abilita il personale all&#8217;uso delle attrezzature individuate dagli Accordi Conferenza Stato Regioni del febbraio 2012. &nbsp; FORMAZIONE ON[..]\nhttps://confartigianatobergamo.it/events/s7-corso-conducente-carrelli-elevatori-on-line-dal-14-aprile/
URL:https://confartigianatobergamo.it/events/s7-corso-conducente-carrelli-elevatori-on-line-dal-14-aprile/
END:VEVENT
END:VCALENDAR