BEGIN:VCALENDAR
VERSION:2.0
PRODID:-//eventon.com NONSGML v1.0//EN
BEGIN:VEVENT
UID:69e526cf91de7
DTSTAMP:20260419T210239
DTSTART:20210707T123000Z
DTEND:20210707T131000Z
TZID:UTC
LOCATION:Online Canale youtube Confartigianato Imprese Bergamo
SUMMARY:WEBINAR : RICARICA VEICOLI ELETTRICI\, MI CONVIENE? mercoledì 7 luglio\,  ore 12.30\,  on line
DESCRIPTION: Non sai se acquistare una colonnina o una wall-box per la tua azienda\,  la tua casa o il tuo condominio? CEnPI di Confartigianato in collaborazione con Emotion\,  produttore italiano di colonnine\,  organizza un interessante webinar gratuito per capire meglio quando ti conviene acquistare un dispositivo di ricarica per i veicoli elettrici\, [..]\nhttps://confartigianatobergamo.it/events/webinar-ricarica-veicoli-elettricimi-conviene-mercoledi-7-luglio-ore-12-30-on-line/
URL:https://confartigianatobergamo.it/events/webinar-ricarica-veicoli-elettricimi-conviene-mercoledi-7-luglio-ore-12-30-on-line/
END:VEVENT
END:VCALENDAR