BEGIN:VCALENDAR
VERSION:2.0
PRODID:-//eventon.com NONSGML v1.0//EN
BEGIN:VEVENT
UID:69e89ba21f817
DTSTAMP:20260422T115754
DTSTART:20220208
DTEND:20220209
TZID:Europe/Rome
LOCATION:Online Canale youtube Confartigianato Imprese Bergamo
SUMMARY:[S2] CORSO AGGIORNAMENTO SICUREZZA DEL LAVORO R.S.P.P. / DATORE DI LAVORO - ON LINE - RISCHIO MEDIO dal 09 febbraio
DESCRIPTION: Sono aperte le iscrizioni al corso di aggiornamento R.S.P.P. per i datori di lavoro (legale rappresentante dell&#8217;azienda) che svolgono direttamente i compiti del Servizio Prevenzione e Protezione (R.S.P.P. &#8211; D.Lgs. 81/08). Il corso di formazione è destinato ai Datori di Lavoro che svolgono compiti di prevenzione e protezione dei rischi R.S.P.P. &#8211; ai[..]\nhttps://confartigianatobergamo.it/events/s2-corso-aggiornamento-sicurezza-del-lavoro-r-s-p-p-datore-di-lavoro-on-line-rischio-medio-dal-09-febbraio/
URL:https://confartigianatobergamo.it/events/s2-corso-aggiornamento-sicurezza-del-lavoro-r-s-p-p-datore-di-lavoro-on-line-rischio-medio-dal-09-febbraio/
END:VEVENT
END:VCALENDAR