BEGIN:VCALENDAR
VERSION:2.0
PRODID:-//eventon.com NONSGML v1.0//EN
BEGIN:VEVENT
UID:69e89bf02f54f
DTSTAMP:20260422T115912
DTSTART:20220926T083000Z
DTEND:20220926T103000Z
TZID:Europe/Rome
LOCATION:Campo Prova Campo Prova
SUMMARY:[S5.1] CORSO AGGIORNAMENTO ANTINCENDIO RISCHIO BASSO - 26 settembre
DESCRIPTION: Sono aperte le iscrizioni al corso di aggiornamento per addetti antincendio. Il corso è destinato a titolari\,  soci e collaboratori già in possesso dell’attestato di frequenza al corso antincendio che intendono garantire l’aggiornamento riservato a squadre antincendio di aziende classificate a RISCHIO BASSO o MEDIO. &nbsp; Per le aziende appartenenti alla[..]\nhttps://confartigianatobergamo.it/events/s5-1-corso-aggiornamento-antincendio-rischio-basso-26-settembre/
URL:https://confartigianatobergamo.it/events/s5-1-corso-aggiornamento-antincendio-rischio-basso-26-settembre/
END:VEVENT
END:VCALENDAR