BEGIN:VCALENDAR
VERSION:2.0
PRODID:-//eventon.com NONSGML v1.0//EN
BEGIN:VEVENT
UID:69ea4c8175de3
DTSTAMP:20260423T184449
DTSTART:20230610T080000Z
DTEND:20230610T110000Z
TZID:Europe/Rome
LOCATION:Confartigianato Imprese Bergamo Via Torretta\,  12 - Bergamo
SUMMARY:[C1.5] CORSO CONTROLLO DI GESTIONE - Conoscere Il vero costo della manodopera dell’Autoriparatore - dal 10 giugno
DESCRIPTION: Il corso\,  rivolto a meccatronici\,  carrozzieri e gommisti\,  intende fornire ai partecipanti gli strumenti adeguati per calcolare e gestire in modo efficace i costi della propria attività\,  a cominciare dal costo della manodopera Gli Autoriparatori così formati conosceranno quale è il «valore» reale della loro azienda e saranno in grado[..]\nhttps://confartigianatobergamo.it/events/c1-5-corso-controllo-di-gestione-conoscere-il-vero-costo-della-manodopera-dellautoriparatore-dal-10-giugno/
URL:https://confartigianatobergamo.it/events/c1-5-corso-controllo-di-gestione-conoscere-il-vero-costo-della-manodopera-dellautoriparatore-dal-10-giugno/
END:VEVENT
END:VCALENDAR