BEGIN:VCALENDAR
VERSION:2.0
PRODID:-//eventon.com NONSGML v1.0//EN
BEGIN:VEVENT
UID:69e739b096802
DTSTAMP:20260421T104744
DTSTART:20230227
DTEND:20230228
TZID:Europe/Rome
LOCATION:
SUMMARY:Liquidazioni periodiche Iva
DESCRIPTION: Invio IV trimestre o ottobre\,  novembre\,  dicembre\nhttps://confartigianatobergamo.it/events/liquidazioni-periodiche-iva/
URL:https://confartigianatobergamo.it/events/liquidazioni-periodiche-iva/
END:VEVENT
END:VCALENDAR