BEGIN:VCALENDAR
VERSION:2.0
PRODID:-//eventon.com NONSGML v1.0//EN
BEGIN:VEVENT
UID:69e9edaa3e2d3
DTSTAMP:20260423T120010
DTSTART:20230130
DTEND:20230131
TZID:Europe/Rome
LOCATION:
SUMMARY:Datore di lavoro - Stampa Libro Unico
DESCRIPTION: Soggetti obbligati: tutti i datori di lavoro. Adempimento: stampa del Libro Unico del Lavoro relativamente ai dati retributivi del mese precedente.\nhttps://confartigianatobergamo.it/events/datore-di-lavoro-stampa-libro-unico-8/
URL:https://confartigianatobergamo.it/events/datore-di-lavoro-stampa-libro-unico-8/
END:VEVENT
END:VCALENDAR