BEGIN:VCALENDAR
VERSION:2.0
PRODID:-//eventon.com NONSGML v1.0//EN
BEGIN:VEVENT
UID:69e50cee83ab8
DTSTAMP:20260419T191214
DTSTART:20230320T130000Z
DTEND:20230320T170000Z
TZID:Europe/Rome
LOCATION:Campo Prova Campo Prova
SUMMARY:[S5] CORSO ANTINCENDIO RISCHIO BASSO - 20 marzo
DESCRIPTION: Sono aperte le iscrizioni al corso antincendio\,  come previsto dall’ Art. 46 D.Lgs 81/08 &#8211; D.M. 10.03.98. Il corso prevede contenuti di tipo teorico e pratico\,  correlati alla tipologia delle attività ed al livello di rischio di incendio delle stesse ed è destinato a titolari\,  soci e collaboratori. Per le aziende appartenenti[..]\nhttps://confartigianatobergamo.it/events/s5-corso-antincendio-rischio-basso-20-marzo/
URL:https://confartigianatobergamo.it/events/s5-corso-antincendio-rischio-basso-20-marzo/
END:VEVENT
END:VCALENDAR