BEGIN:VCALENDAR
VERSION:2.0
PRODID:-//eventon.com NONSGML v1.0//EN
BEGIN:VEVENT
UID:69e74ead9ad75
DTSTAMP:20260421T121717
DTSTART:20231107T170000Z
DTEND:20231107T210000Z
TZID:Europe/Rome
LOCATION:Confartigianato Imprese Bergamo Via Torretta\,  12 - Bergamo
SUMMARY:[S7] CORSO CONDUCENTE CARRELLI ELEVATORI - dal 07 novembre
DESCRIPTION: Sono aperte le iscrizioni al corso conducente carrelli elevatori. Come previsto dall&#8217;ACCORDO STATO REGIONI del 22/02/2012 in attuazione dell’art. 73\,  comma 5\,  del decreto legislativo 9 aprile 2008\,  n. 81 e successive modifiche e integrazioni\,  il corso abilita il personale all&#8217;uso delle attrezzature individuate dagli Accordi Conferenza Stato Regioni del febbraio 2012. &nbsp; Il corso[..]\nhttps://confartigianatobergamo.it/events/s7-corso-conducente-carrelli-elevatori-dal-07-novembre/
URL:https://confartigianatobergamo.it/events/s7-corso-conducente-carrelli-elevatori-dal-07-novembre/
END:VEVENT
END:VCALENDAR