BEGIN:VCALENDAR
VERSION:2.0
PRODID:-//eventon.com NONSGML v1.0//EN
BEGIN:VEVENT
UID:69e994b8f2b29
DTSTAMP:20260423T054040
DTSTART:20230522T163000Z
DTEND:20230522T183000Z
TZID:Europe/Rome
LOCATION:Auditorium Calegari - Confartigianato Imprese Bergamo Via Torretta\, 12 - Bergamo
SUMMARY:Assemblea Generale dei Soci - Parte Privata | Lunedì 22 Maggio ore 18:30
DESCRIPTION: Ti invitiamo a partecipare alla 78^ Assemblea Generale Ordinaria dei Soci di Confartigianato Imprese Bergamo &#8211; Parte privata\,  in programma lunedì 22 maggio alle ore 18.30 nella sede di Bergamo\,  in via Torretta\,  12 (Auditorium Calegari). La parte privata dell’Assemblea è riservata ai soli imprenditori associati in regola con il[..]\nhttps://confartigianatobergamo.it/events/lunedi-22-maggio-ore-1830-assemblea-generale-dei-soci-parte-privata/
URL:https://confartigianatobergamo.it/events/lunedi-22-maggio-ore-1830-assemblea-generale-dei-soci-parte-privata/
END:VEVENT
END:VCALENDAR