BEGIN:VCALENDAR
VERSION:2.0
PRODID:-//eventon.com NONSGML v1.0//EN
BEGIN:VEVENT
UID:69e7e2996ca15
DTSTAMP:20260421T224825
DTSTART:20240226T173000Z
DTEND:20240226T193000Z
TZID:Europe/Rome
LOCATION:Rocca Viscontea Piazza della Rocca\,  1
SUMMARY:L’importanza del contratto nei casi di appalto e subappalto in edilizia privata
DESCRIPTION: Il contratto d’ appalto è un elemento essenziale e imprescindibile nel rapporto tra impresa e committente\,  poiché definisce i termini dell’accordo\,  lo stesso vale nei casi di interventi in subappalto. Nel contratto vengono stabilite le modalità di esecuzione del lavoro\,  i prezzi\,  i tempi di consegna e gli obblighi delle[..]\nhttps://confartigianatobergamo.it/events/limportanza-del-contratto-nei-casi-di-appalto-e-subappalto-in-edilizia-privata/
URL:https://confartigianatobergamo.it/events/limportanza-del-contratto-nei-casi-di-appalto-e-subappalto-in-edilizia-privata/
END:VEVENT
END:VCALENDAR