BEGIN:VCALENDAR
VERSION:2.0
PRODID:-//eventon.com NONSGML v1.0//EN
BEGIN:VEVENT
UID:69ead3f68e16e
DTSTAMP:20260424T042246
DTSTART:20241215
DTEND:20241216
TZID:Europe/Rome
LOCATION:
SUMMARY:Imposta sostitutiva sulla rivalutazione del trattamento di fine rapporto
DESCRIPTION: Soggetti obbligati: datori di lavoro che hanno alle proprie dipendenze lavoratori subordinati. Adempimento: versamento in acconto dell’imposta sostitutiva sulla rivalutazione del trattamento di fine rapporto.\nhttps://confartigianatobergamo.it/events/imposta-sostitutiva-sulla-rivalutazione-del-trattamento-di-fine-rapporto-3/
URL:https://confartigianatobergamo.it/events/imposta-sostitutiva-sulla-rivalutazione-del-trattamento-di-fine-rapporto-3/
END:VEVENT
END:VCALENDAR