BEGIN:VCALENDAR
VERSION:2.0
PRODID:-//eventon.com NONSGML v1.0//EN
BEGIN:VEVENT
UID:69e739ce92a55
DTSTAMP:20260421T104814
DTSTART:20240703T163000Z
DTEND:20240703T183000Z
TZID:Europe/Rome
LOCATION:Sala B - Confartigianato Imprese Bergamo via Torretta 12\,  Bergamo
SUMMARY:Dogane senza stress: nuovi consigli per le PMI | Mercoledì 3 luglio ore 18.30
DESCRIPTION: Per le aziende artigiane che operano con l&#8217;estero\,  le procedure doganali possono rappresentare una sfida significativa. Per questo motivo\,  abbiamo organizzato un evento in cui\,  con la collaborazione del Dott. Luca Moriconi\,  docente di diritto doganale\,  esperto in questioni doganali e commercio internazionale\,  vi chiariremo dei dubbi e vi forniremo[..]\nhttps://confartigianatobergamo.it/events/dogane-senza-stress-nuovi-consigli-per-le-pmi-3-luglio-ore-18-30/
URL:https://confartigianatobergamo.it/events/dogane-senza-stress-nuovi-consigli-per-le-pmi-3-luglio-ore-18-30/
END:VEVENT
END:VCALENDAR