BEGIN:VCALENDAR
VERSION:2.0
PRODID:-//eventon.com NONSGML v1.0//EN
BEGIN:VEVENT
UID:69e750320001a
DTSTAMP:20260421T122346
DTSTART:20240916T163000Z
DTEND:20240916T183000Z
TZID:Europe/Rome
LOCATION:Aula Magna - Istituto di Istruzione Superiore "David Maria Turoldo" Via Ronco\, 11 Zogno
SUMMARY:Seminario Concordato Preventivo Biennale | Lunedì 16 settembre ore 18.30 | Aula Magna c/o Istituto Superiore "Turoldo"\,  Via Ronco\, 11 - Zogno
DESCRIPTION: Il Concordato Preventivo Biennale (c.d. CPB) è un innovativo strumento di compliance tra il fisco e i contribuenti\,  che permette di determinare in anticipo il reddito che verrà dichiarato e\,  conseguentemente\,  le imposte da pagare. L&#8217;innovazione sta nel fatto che il concordato preventivo ha lo sguardo al futuro e\,  trattandosi[..]\nhttps://confartigianatobergamo.it/events/seminario-concordato-preventivo-biennale-lunedi-16-settembre-ore-18-30-aula-magna-istituto-turoldo-zogno/
URL:https://confartigianatobergamo.it/events/seminario-concordato-preventivo-biennale-lunedi-16-settembre-ore-18-30-aula-magna-istituto-turoldo-zogno/
END:VEVENT
END:VCALENDAR