BEGIN:VCALENDAR
VERSION:2.0
PRODID:-//eventon.com NONSGML v1.0//EN
BEGIN:VEVENT
UID:69e4cbf8505f3
DTSTAMP:20260419T143504
DTSTART:20250715
DTEND:20250716
TZID:Europe/Rome
LOCATION:
SUMMARY:IVA
DESCRIPTION: Liquidazione mese precedente\nhttps://confartigianatobergamo.it/events/iva-10/
URL:https://confartigianatobergamo.it/events/iva-10/
END:VEVENT
END:VCALENDAR