BEGIN:VCALENDAR
VERSION:2.0
PRODID:-//eventon.com NONSGML v1.0//EN
BEGIN:VEVENT
UID:69e9eafbb1205
DTSTAMP:20260423T114843
DTSTART:20250213T173000Z
DTEND:20250213T193000Z
TZID:Europe/Rome
LOCATION:Auditorium Calegari - Confartigianato Imprese Bergamo Via Torretta\, 12 - Bergamo
SUMMARY:Fisco e Lavoro: le novità della Legge di Bilancio 2025 | Giovedì 13 febbraio ore 18.30
DESCRIPTION: Confartigianato Imprese Bergamo ti invita al seminario dal titolo &#8220;Fisco e Lavoro: le novità della Legge di Bilancio 2025&#8221; in cui si farà il punto sui contenuti della Legge di Bilancio (novità in tema di fisco e lavoro) e sul Rentri\,  il registro elettronico nazionale per la tracciabilità dei rifiuti\, [..]\nhttps://confartigianatobergamo.it/events/legge-di-bilancio-2025-giovedi-13-febbraio-ore-18-30/
URL:https://confartigianatobergamo.it/events/legge-di-bilancio-2025-giovedi-13-febbraio-ore-18-30/
END:VEVENT
END:VCALENDAR