BEGIN:VCALENDAR
VERSION:2.0
PRODID:-//eventon.com NONSGML v1.0//EN
BEGIN:VEVENT
UID:69e6e72b7a830
DTSTAMP:20260421T045539
DTSTART:20261230
DTEND:20261231
TZID:Europe/Rome
LOCATION:
SUMMARY:Datore di lavoro – Stampa Libro Unico
DESCRIPTION: Soggetti obbligati: Tutti i datori di lavoro. Adempimento: stampa del Libro Unico del Lavoro relativamente ai dati retributivi del mese precedente.\nhttps://confartigianatobergamo.it/events/datore-di-lavoro-stampa-libro-unico-febbraio-25/
URL:https://confartigianatobergamo.it/events/datore-di-lavoro-stampa-libro-unico-febbraio-25/
END:VEVENT
END:VCALENDAR